BEGIN:VCALENDAR
VERSION:2.0
PRODID:-//Shri Krishna Vrundavana Houston - ECPv6.15.20//NONSGML v1.0//EN
CALSCALE:GREGORIAN
METHOD:PUBLISH
X-WR-CALNAME:Shri Krishna Vrundavana Houston
X-ORIGINAL-URL:https://skvhouston.org
X-WR-CALDESC:Events for Shri Krishna Vrundavana Houston
REFRESH-INTERVAL;VALUE=DURATION:PT1H
X-Robots-Tag:noindex
X-PUBLISHED-TTL:PT1H
BEGIN:VTIMEZONE
TZID:UTC
BEGIN:STANDARD
TZOFFSETFROM:+0000
TZOFFSETTO:+0000
TZNAME:UTC
DTSTART:20240101T000000
END:STANDARD
END:VTIMEZONE
BEGIN:VEVENT
DTSTART;TZID=UTC:20251211T080000
DTEND;TZID=UTC:20251211T170000
DTSTAMP:20260423T161512
CREATED:20251211T174029Z
LAST-MODIFIED:20251211T174143Z
UID:8611-1765440000-1765472400@skvhouston.org
SUMMARY:Shri Durga Pooja-Amavasya
DESCRIPTION:Pooja will start at 6pm to 8pm followed by prasada on Dec 19th 2025 \nShri Durgayai Namaha\nby Prasada
URL:https://skvhouston.org/event/shri-durga-pooja-amavasya/
END:VEVENT
BEGIN:VEVENT
DTSTART;TZID=UTC:20251211T080000
DTEND;TZID=UTC:20251211T170000
DTSTAMP:20260423T161512
CREATED:20251211T214649Z
LAST-MODIFIED:20251211T214722Z
UID:8638-1765440000-1765472400@skvhouston.org
SUMMARY:Hanumad Jayanthi
DESCRIPTION:Pavamana Homa  \nSathyanarayana Pooja 6pm
URL:https://skvhouston.org/event/hanumad-jayanthi/
END:VEVENT
BEGIN:VEVENT
DTSTART;TZID=UTC:20251215T060000
DTEND;TZID=UTC:20260114T070000
DTSTAMP:20260423T161512
CREATED:20251215T175816Z
LAST-MODIFIED:20251215T175816Z
UID:8745-1765778400-1768374000@skvhouston.org
SUMMARY:Dhanurmasa
DESCRIPTION:Daily Dhanurmasa Hanuman Madhu Abhisheka 6am to 7am \nDec 15th to Jan 14th
URL:https://skvhouston.org/event/dhanurmasa/
END:VEVENT
BEGIN:VEVENT
DTSTART;VALUE=DATE:20251230
DTEND;VALUE=DATE:20251231
DTSTAMP:20260423T161512
CREATED:20250707T215236Z
LAST-MODIFIED:20251211T175327Z
UID:7281-1767052800-1767139199@skvhouston.org
SUMMARY:Vaikunta Ekadashi
DESCRIPTION:Vaikunta Dwara Pravesha at 5:30am followed by Suprabhatha Seva\, Shalagrama Abhisheka\, Alankara Pooja and Maha Mangalarathi. \nArchana by request from devotees. \nTemple open from 5:30am to 8:30pm followed by Laddu Prasada
URL:https://skvhouston.org/event/vaikunta-ekadashi/
CATEGORIES:Pooja
END:VEVENT
END:VCALENDAR