BEGIN:VCALENDAR
VERSION:2.0
PRODID:-//Shri Krishna Vrundavana Houston - ECPv6.15.20//NONSGML v1.0//EN
CALSCALE:GREGORIAN
METHOD:PUBLISH
X-ORIGINAL-URL:https://skvhouston.org
X-WR-CALDESC:Events for Shri Krishna Vrundavana Houston
REFRESH-INTERVAL;VALUE=DURATION:PT1H
X-Robots-Tag:noindex
X-PUBLISHED-TTL:PT1H
BEGIN:VTIMEZONE
TZID:UTC
BEGIN:STANDARD
TZOFFSETFROM:+0000
TZOFFSETTO:+0000
TZNAME:UTC
DTSTART:20240101T000000
END:STANDARD
END:VTIMEZONE
BEGIN:VEVENT
DTSTART;TZID=UTC:20250501T073000
DTEND;TZID=UTC:20250501T080000
DTSTAMP:20260423T234207
CREATED:20250409T044420Z
LAST-MODIFIED:20250409T044420Z
UID:6573-1746084600-1746086400@skvhouston.org
SUMMARY:Shukla Paksha Naga Abhisheka
DESCRIPTION:
URL:https://skvhouston.org/event/shukla-paksha-naga-abhisheka/
CATEGORIES:Pooja
END:VEVENT
BEGIN:VEVENT
DTSTART;TZID=UTC:20250511T100000
DTEND;TZID=UTC:20250511T120000
DTSTAMP:20260423T234207
CREATED:20250409T044536Z
LAST-MODIFIED:20250409T044536Z
UID:6574-1746957600-1746964800@skvhouston.org
SUMMARY:Narasimha Jayanthi\, Manyu Suktha Homa
DESCRIPTION:
URL:https://skvhouston.org/event/narasimha-jayanthi-manyu-suktha-homa-2/
CATEGORIES:Pooja
END:VEVENT
END:VCALENDAR