BEGIN:VCALENDAR
VERSION:2.0
PRODID:-//Shri Krishna Vrundavana Houston - ECPv6.15.20//NONSGML v1.0//EN
CALSCALE:GREGORIAN
METHOD:PUBLISH
X-WR-CALNAME:Shri Krishna Vrundavana Houston
X-ORIGINAL-URL:https://skvhouston.org
X-WR-CALDESC:Events for Shri Krishna Vrundavana Houston
REFRESH-INTERVAL;VALUE=DURATION:PT1H
X-Robots-Tag:noindex
X-PUBLISHED-TTL:PT1H
BEGIN:VTIMEZONE
TZID:UTC
BEGIN:STANDARD
TZOFFSETFROM:+0000
TZOFFSETTO:+0000
TZNAME:UTC
DTSTART:20240101T000000
END:STANDARD
END:VTIMEZONE
BEGIN:VEVENT
DTSTART;VALUE=DATE:20250406
DTEND;VALUE=DATE:20250407
DTSTAMP:20260424T004829
CREATED:20250405T142716Z
LAST-MODIFIED:20250405T142716Z
UID:6534-1743897600-1743983999@skvhouston.org
SUMMARY:Akhanda Bhajana & SeethaRama Kalyana- April 6th
DESCRIPTION:https://skvhouston.org/sponsor-sevas-for-upcoming-events/
URL:https://skvhouston.org/event/akhanda-bhajana-seetharama-kalyana-april-6th/
END:VEVENT
BEGIN:VEVENT
DTSTART;TZID=UTC:20250412T180000
DTEND;TZID=UTC:20250412T180000
DTSTAMP:20260424T004829
CREATED:20250409T044052Z
LAST-MODIFIED:20250409T044052Z
UID:6569-1744480800-1744480800@skvhouston.org
SUMMARY:Poornima\, Shri Sathyanarayana Pooja\, Hanuman Jayanthi
DESCRIPTION:
URL:https://skvhouston.org/event/poornima-shri-sathyanarayana-pooja-hanuman-jayanthi/
CATEGORIES:Pooja
END:VEVENT
BEGIN:VEVENT
DTSTART;TZID=UTC:20250414T070000
DTEND;TZID=UTC:20250414T200000
DTSTAMP:20260424T004829
CREATED:20250409T044200Z
LAST-MODIFIED:20250409T044234Z
UID:6568-1744614000-1744660800@skvhouston.org
SUMMARY:Vishu\, Soura Yugadi
DESCRIPTION:
URL:https://skvhouston.org/event/vishu-soura-yugadi/
CATEGORIES:Pooja
END:VEVENT
BEGIN:VEVENT
DTSTART;TZID=UTC:20250416T073000
DTEND;TZID=UTC:20250416T090000
DTSTAMP:20260424T004829
CREATED:20250409T044322Z
LAST-MODIFIED:20250409T044322Z
UID:6570-1744788600-1744794000@skvhouston.org
SUMMARY:Sankatahara Chaturthi\, Abhisheka\, Ganahoma
DESCRIPTION:
URL:https://skvhouston.org/event/sankatahara-chaturthi-abhisheka-ganahoma/
CATEGORIES:Pooja
END:VEVENT
BEGIN:VEVENT
DTSTART;TZID=UTC:20250427T180000
DTEND;TZID=UTC:20250427T200000
DTSTAMP:20260424T004829
CREATED:20250409T044459Z
LAST-MODIFIED:20250409T044459Z
UID:6571-1745776800-1745784000@skvhouston.org
SUMMARY:Amavasya\, Durga pooja\, Kumkuma Archane
DESCRIPTION:
URL:https://skvhouston.org/event/amavasya-durga-pooja-kumkuma-archane/
CATEGORIES:Pooja
END:VEVENT
BEGIN:VEVENT
DTSTART;VALUE=DATE:20250429
DTEND;VALUE=DATE:20250430
DTSTAMP:20260424T004829
CREATED:20250409T044640Z
LAST-MODIFIED:20250409T044640Z
UID:6572-1745884800-1745971199@skvhouston.org
SUMMARY:Akshayya Thrithiya\, Archana by request
DESCRIPTION:
URL:https://skvhouston.org/event/akshayya-thrithiya-archana-by-request/
CATEGORIES:Pooja
END:VEVENT
END:VCALENDAR