BEGIN:VCALENDAR
VERSION:2.0
PRODID:-//Shri Krishna Vrundavana Houston - ECPv6.15.20//NONSGML v1.0//EN
CALSCALE:GREGORIAN
METHOD:PUBLISH
X-ORIGINAL-URL:https://skvhouston.org
X-WR-CALDESC:Events for Shri Krishna Vrundavana Houston
REFRESH-INTERVAL;VALUE=DURATION:PT1H
X-Robots-Tag:noindex
X-PUBLISHED-TTL:PT1H
BEGIN:VTIMEZONE
TZID:UTC
BEGIN:STANDARD
TZOFFSETFROM:+0000
TZOFFSETTO:+0000
TZNAME:UTC
DTSTART:20230101T000000
END:STANDARD
END:VTIMEZONE
BEGIN:VTIMEZONE
TZID:America/Chicago
BEGIN:DAYLIGHT
TZOFFSETFROM:-0600
TZOFFSETTO:-0500
TZNAME:CDT
DTSTART:20230312T080000
END:DAYLIGHT
BEGIN:STANDARD
TZOFFSETFROM:-0500
TZOFFSETTO:-0600
TZNAME:CST
DTSTART:20231105T070000
END:STANDARD
BEGIN:DAYLIGHT
TZOFFSETFROM:-0600
TZOFFSETTO:-0500
TZNAME:CDT
DTSTART:20240310T080000
END:DAYLIGHT
BEGIN:STANDARD
TZOFFSETFROM:-0500
TZOFFSETTO:-0600
TZNAME:CST
DTSTART:20241103T070000
END:STANDARD
BEGIN:DAYLIGHT
TZOFFSETFROM:-0600
TZOFFSETTO:-0500
TZNAME:CDT
DTSTART:20250309T080000
END:DAYLIGHT
BEGIN:STANDARD
TZOFFSETFROM:-0500
TZOFFSETTO:-0600
TZNAME:CST
DTSTART:20251102T070000
END:STANDARD
END:VTIMEZONE
BEGIN:VEVENT
DTSTART;TZID=UTC:20240803T183000
DTEND;TZID=UTC:20240803T213000
DTSTAMP:20260424T100244
CREATED:20240604T183006Z
LAST-MODIFIED:20240725T201325Z
UID:5211-1722709800-1722720600@skvhouston.org
SUMMARY:Yakshagana - Shambhavi Vijaya - August 3rd\, 6:30PM
DESCRIPTION:
URL:https://skvhouston.org/event/yakshagana-shambhavi-vijaya/
END:VEVENT
BEGIN:VEVENT
DTSTART;VALUE=DATE:20240816
DTEND;VALUE=DATE:20240817
DTSTAMP:20260424T100244
CREATED:20240815T154242Z
LAST-MODIFIED:20240815T165022Z
UID:5533-1723766400-1723852799@skvhouston.org
SUMMARY:Sri Varamahalakshmi Vratha
DESCRIPTION:Sri Varamahalakshmi Vratha : Friday\, August 16h\, 10AM
URL:https://skvhouston.org/event/sri-varamahalakshmi-vratha/
LOCATION:Our Address\, 10251 Synott Rd\, Sugar Land\, TX\, 77498\, United States
END:VEVENT
BEGIN:VEVENT
DTSTART;VALUE=DATE:20240818
DTEND;VALUE=DATE:20240819
DTSTAMP:20260424T100244
CREATED:20240815T154756Z
LAST-MODIFIED:20240815T165212Z
UID:5535-1723939200-1724025599@skvhouston.org
SUMMARY:Rig/Yajur Upakarma
DESCRIPTION:Rig/Yajur Upakarma :  Sunday\, August 18th\, 6am to 9am
URL:https://skvhouston.org/event/rig-yajur-upakarma/
LOCATION:Our Address\, 10251 Synott Rd\, Sugar Land\, TX\, 77498\, United States
END:VEVENT
BEGIN:VEVENT
DTSTART;VALUE=DATE:20240819
DTEND;VALUE=DATE:20240820
DTSTAMP:20260424T100244
CREATED:20240815T163416Z
LAST-MODIFIED:20240815T165354Z
UID:5538-1724025600-1724111999@skvhouston.org
SUMMARY:Guru Purnima\, Sri Sathyanarayana Puja
DESCRIPTION:Guru Purnima\, Sri Sathyanarayana Puja : Monday\, August 19th\, 6pm
URL:https://skvhouston.org/event/guru-purnima-sri-sathyanarayana-puja/
LOCATION:Our Address\, 10251 Synott Rd\, Sugar Land\, TX\, 77498\, United States
END:VEVENT
BEGIN:VEVENT
DTSTART;VALUE=DATE:20240820
DTEND;VALUE=DATE:20240821
DTSTAMP:20260424T100244
CREATED:20240815T165837Z
LAST-MODIFIED:20240815T165837Z
UID:5548-1724112000-1724198399@skvhouston.org
SUMMARY:Sri Guru Raghavendra Purvaradhane
DESCRIPTION:Sri Guru Raghavendra Purvaradhane :  Tuesday\, August 20th\, 10am to 1pm
URL:https://skvhouston.org/event/sri-guru-raghavendra-purvaradhane/
LOCATION:Our Address\, 10251 Synott Rd\, Sugar Land\, TX\, 77498\, United States
END:VEVENT
BEGIN:VEVENT
DTSTART;VALUE=DATE:20240821
DTEND;VALUE=DATE:20240822
DTSTAMP:20260424T100244
CREATED:20240815T170008Z
LAST-MODIFIED:20240815T170008Z
UID:5550-1724198400-1724284799@skvhouston.org
SUMMARY:Sri Guru Raghavendra Madhyaradhane
DESCRIPTION:Sri Guru Raghavendra Madhyaradhane : Wednesday\, August 21st\, 10am to 1pm
URL:https://skvhouston.org/event/sri-guru-raghavendra-madhyaradhane/
LOCATION:Our Address\, 10251 Synott Rd\, Sugar Land\, TX\, 77498\, United States
END:VEVENT
BEGIN:VEVENT
DTSTART;VALUE=DATE:20240822
DTEND;VALUE=DATE:20240823
DTSTAMP:20260424T100244
CREATED:20240815T164333Z
LAST-MODIFIED:20240815T164740Z
UID:5540-1724284800-1724371199@skvhouston.org
SUMMARY:Sankatahara Chaturthi\, Ganahoma
DESCRIPTION:Sankatahara Chaturthi\, Ganahoma : Thursday\, Aug 22nd 2024\, 8am
URL:https://skvhouston.org/event/sankatahara-chaturthi-ganahoma/
LOCATION:Our Address\, 10251 Synott Rd\, Sugar Land\, TX\, 77498\, United States
END:VEVENT
BEGIN:VEVENT
DTSTART;VALUE=DATE:20240822
DTEND;VALUE=DATE:20240823
DTSTAMP:20260424T100244
CREATED:20240815T170148Z
LAST-MODIFIED:20240815T170148Z
UID:5552-1724284800-1724371199@skvhouston.org
SUMMARY:Sri Guru Raghavendra Uttararadhane
DESCRIPTION:Sri Guru Raghavendra Uttararadhane : Thursday\, August 22nd\, 10am to 1pm
URL:https://skvhouston.org/event/sri-guru-raghavendra-uttararadhane/
LOCATION:Our Address\, 10251 Synott Rd\, Sugar Land\, TX\, 77498\, United States
END:VEVENT
BEGIN:VEVENT
DTSTART;VALUE=DATE:20240824
DTEND;VALUE=DATE:20240825
DTSTAMP:20260424T100244
CREATED:20240205T005341Z
LAST-MODIFIED:20240725T162209Z
UID:4870-1724457600-1724543999@skvhouston.org
SUMMARY:Aradhana Mahotsava of Shri Guru Raghavendra Swamiji
DESCRIPTION:
URL:https://skvhouston.org/event/aradhana-mahotsava-of-shri-guru-raghavendra-swamiji/
END:VEVENT
BEGIN:VEVENT
DTSTART;VALUE=DATE:20240826
DTEND;VALUE=DATE:20240827
DTSTAMP:20260424T100244
CREATED:20240813T171102Z
LAST-MODIFIED:20240813T171217Z
UID:5511-1724630400-1724716799@skvhouston.org
SUMMARY:Shri Krishna Janmaashtamee
DESCRIPTION:Arghya at Moon Rise
URL:https://skvhouston.org/event/5511/
LOCATION:Our Address\, 10251 Synott Rd\, Sugar Land\, TX\, 77498\, United States
END:VEVENT
BEGIN:VEVENT
DTSTART;VALUE=DATE:20240831
DTEND;VALUE=DATE:20240901
DTSTAMP:20260424T100244
CREATED:20240813T171454Z
LAST-MODIFIED:20240813T171518Z
UID:5516-1725062400-1725148799@skvhouston.org
SUMMARY:Shri Krishna Leelothsava
DESCRIPTION:
URL:https://skvhouston.org/event/shri-krishna-leelothsava/
LOCATION:Our Address\, 10251 Synott Rd\, Sugar Land\, TX\, 77498\, United States
END:VEVENT
END:VCALENDAR