BEGIN:VCALENDAR
VERSION:2.0
PRODID:-//Shri Krishna Vrundavana Houston - ECPv6.15.20//NONSGML v1.0//EN
CALSCALE:GREGORIAN
METHOD:PUBLISH
X-ORIGINAL-URL:https://skvhouston.org
X-WR-CALDESC:Events for Shri Krishna Vrundavana Houston
REFRESH-INTERVAL;VALUE=DURATION:PT1H
X-Robots-Tag:noindex
X-PUBLISHED-TTL:PT1H
BEGIN:VTIMEZONE
TZID:UTC
BEGIN:STANDARD
TZOFFSETFROM:+0000
TZOFFSETTO:+0000
TZNAME:UTC
DTSTART:20220101T000000
END:STANDARD
END:VTIMEZONE
BEGIN:VEVENT
DTSTART;TZID=UTC:20231112T180000
DTEND;TZID=UTC:20231112T213000
DTSTAMP:20260424T202115
CREATED:20231102T211543Z
LAST-MODIFIED:20231102T211543Z
UID:4424-1699812000-1699824600@skvhouston.org
SUMMARY:Deepavali Lakshmi Puja
DESCRIPTION:Deepavali Lakshmi Puja
URL:https://skvhouston.org/event/deepavali-lakshmi-puja/
LOCATION:Our Address\, 10251 Synott Rd\, Sugar Land\, TX\, 77498\, United States
END:VEVENT
BEGIN:VEVENT
DTSTART;TZID=UTC:20231118T180000
DTEND;TZID=UTC:20231118T213000
DTSTAMP:20260424T202115
CREATED:20231102T211340Z
LAST-MODIFIED:20231102T211340Z
UID:4422-1700330400-1700343000@skvhouston.org
SUMMARY:Shreenivasa Kalyanothsava
DESCRIPTION:12th Year anniversary of Shri Krishna Vrundavana
URL:https://skvhouston.org/event/shreenivasa-kalyanothsava/
LOCATION:Our Address\, 10251 Synott Rd\, Sugar Land\, TX\, 77498\, United States
CATEGORIES:Pooja
END:VEVENT
END:VCALENDAR