BEGIN:VCALENDAR
VERSION:2.0
PRODID:-//Shri Krishna Vrundavana Houston - ECPv6.15.20//NONSGML v1.0//EN
CALSCALE:GREGORIAN
METHOD:PUBLISH
X-WR-CALNAME:Shri Krishna Vrundavana Houston
X-ORIGINAL-URL:https://skvhouston.org
X-WR-CALDESC:Events for Shri Krishna Vrundavana Houston
REFRESH-INTERVAL;VALUE=DURATION:PT1H
X-Robots-Tag:noindex
X-PUBLISHED-TTL:PT1H
BEGIN:VTIMEZONE
TZID:UTC
BEGIN:STANDARD
TZOFFSETFROM:+0000
TZOFFSETTO:+0000
TZNAME:UTC
DTSTART:20210101T000000
END:STANDARD
END:VTIMEZONE
BEGIN:VEVENT
DTSTART;TZID=UTC:20220802T100000
DTEND;TZID=UTC:20220802T123000
DTSTAMP:20260425T142617
CREATED:20220728T150205Z
LAST-MODIFIED:20220728T150205Z
UID:3474-1659434400-1659443400@skvhouston.org
SUMMARY:Nagarapanchami
DESCRIPTION:
URL:https://skvhouston.org/event/nagarapanchami/
LOCATION:Our Address\, 10251 Synott Rd\, Sugar Land\, TX\, 77498\, United States
CATEGORIES:Pooja
END:VEVENT
BEGIN:VEVENT
DTSTART;TZID=UTC:20220811T060000
DTEND;TZID=UTC:20220811T090000
DTSTAMP:20260425T142617
CREATED:20220728T150302Z
LAST-MODIFIED:20220810T011616Z
UID:3476-1660197600-1660208400@skvhouston.org
SUMMARY:Upakarma (Chandra Rigveda & Yajurveda)
DESCRIPTION:Please click here to book sevas
URL:https://skvhouston.org/event/upakarma-chandra-rigveda-yajurveda/
CATEGORIES:Pooja
END:VEVENT
BEGIN:VEVENT
DTSTART;TZID=UTC:20220813T070000
DTEND;TZID=UTC:20220813T190000
DTSTAMP:20260425T142617
CREATED:20220307T175147Z
LAST-MODIFIED:20220728T145945Z
UID:3387-1660374000-1660417200@skvhouston.org
SUMMARY:Shri Guru Raghavendra Swamy Aradhana Mahotsava 2022
DESCRIPTION:   \n\n Aradhana Volunteer Signup\, Please click here   \nGrocery Sponsorship for Aradhana\, Please click here\nSeva Sponsorship for Aradhana\, Please click here
URL:https://skvhouston.org/event/raghavendra-swami-aaradhane/
LOCATION:Our Address\, 10251 Synott Rd\, Sugar Land\, TX\, 77498\, United States
CATEGORIES:Pooja,Seva
END:VEVENT
BEGIN:VEVENT
DTSTART;TZID=UTC:20220819T200000
DTEND;TZID=UTC:20220819T233000
DTSTAMP:20260425T142617
CREATED:20220728T150359Z
LAST-MODIFIED:20220728T150359Z
UID:3478-1660939200-1660951800@skvhouston.org
SUMMARY:Shri Krishna Janmashtami
DESCRIPTION:
URL:https://skvhouston.org/event/shri-krishna-janmashtami/
LOCATION:Our Address\, 10251 Synott Rd\, Sugar Land\, TX\, 77498\, United States
END:VEVENT
BEGIN:VEVENT
DTSTART;TZID=UTC:20220820T140000
DTEND;TZID=UTC:20220820T180000
DTSTAMP:20260425T142617
CREATED:20220728T150446Z
LAST-MODIFIED:20220811T191625Z
UID:3480-1661004000-1661018400@skvhouston.org
SUMMARY:Shri Krishna Leelotsava
DESCRIPTION:Please click here to register
URL:https://skvhouston.org/event/shri-krishna-leelotsava/
LOCATION:Our Address\, 10251 Synott Rd\, Sugar Land\, TX\, 77498\, United States
CATEGORIES:Pooja
END:VEVENT
BEGIN:VEVENT
DTSTART;TZID=UTC:20220829T060000
DTEND;TZID=UTC:20220829T100000
DTSTAMP:20260425T142617
CREATED:20220728T150539Z
LAST-MODIFIED:20220823T223526Z
UID:3482-1661752800-1661767200@skvhouston.org
SUMMARY:Upakarma (Saura Rigveda)
DESCRIPTION:
URL:https://skvhouston.org/event/upakarma-saura-rigveda/
LOCATION:Our Address\, 10251 Synott Rd\, Sugar Land\, TX\, 77498\, United States
END:VEVENT
BEGIN:VEVENT
DTSTART;TZID=UTC:20220830T080000
DTEND;TZID=UTC:20220903T170000
DTSTAMP:20260425T142617
CREATED:20220728T150902Z
LAST-MODIFIED:20220825T202115Z
UID:3484-1661846400-1662224400@skvhouston.org
SUMMARY:Ganesha Utsava
DESCRIPTION:Book Seva
URL:https://skvhouston.org/event/ganesha-utsava/
LOCATION:Our Address\, 10251 Synott Rd\, Sugar Land\, TX\, 77498\, United States
END:VEVENT
END:VCALENDAR