BEGIN:VCALENDAR
VERSION:2.0
PRODID:-//Shri Krishna Vrundavana Houston - ECPv6.15.20//NONSGML v1.0//EN
CALSCALE:GREGORIAN
METHOD:PUBLISH
X-ORIGINAL-URL:https://skvhouston.org
X-WR-CALDESC:Events for Shri Krishna Vrundavana Houston
REFRESH-INTERVAL;VALUE=DURATION:PT1H
X-Robots-Tag:noindex
X-PUBLISHED-TTL:PT1H
BEGIN:VTIMEZONE
TZID:UTC
BEGIN:STANDARD
TZOFFSETFROM:+0000
TZOFFSETTO:+0000
TZNAME:UTC
DTSTART:20210101T000000
END:STANDARD
END:VTIMEZONE
BEGIN:VEVENT
DTSTART;TZID=UTC:20220401T183000
DTEND;TZID=UTC:20220401T203000
DTSTAMP:20260425T193731
CREATED:20220304T050435Z
LAST-MODIFIED:20220304T050435Z
UID:3381-1648837800-1648845000@skvhouston.org
SUMMARY:Yugadi
DESCRIPTION:Panchanga Shravana \n6:30 PM onwards
URL:https://skvhouston.org/event/yugadi/
CATEGORIES:Pooja,Seva
ATTACH;FMTTYPE=image/jpeg:https://skvhouston.org/wp-content/uploads/2018/12/skv1.jpeg
END:VEVENT
BEGIN:VEVENT
DTSTART;TZID=UTC:20220410T060000
DTEND;TZID=UTC:20220410T200000
DTSTAMP:20260425T193731
CREATED:20220307T054525Z
LAST-MODIFIED:20220308T004316Z
UID:3383-1649570400-1649620800@skvhouston.org
SUMMARY:Seeta Rama Kalyanotsava
DESCRIPTION:
URL:https://skvhouston.org/event/seeta-rama-kalyanotsava/
LOCATION:Our Address\, 10251 Synott Rd\, Sugar Land\, TX\, 77498\, United States
CATEGORIES:Pooja,Seva
ATTACH;FMTTYPE=image/jpeg:https://skvhouston.org/wp-content/uploads/2022/03/4A04AB46-BE44-45DB-AD06-213762C48B0F.jpeg
END:VEVENT
BEGIN:VEVENT
DTSTART;TZID=UTC:20220425T000000
DTEND;TZID=UTC:20220531T000000
DTSTAMP:20260425T193731
CREATED:20220425T142217Z
LAST-MODIFIED:20220425T142736Z
UID:3397-1650844800-1653955200@skvhouston.org
SUMMARY:April & May Events
DESCRIPTION:Please check the upcoming events for month of April & May and book the Sevas!!!
URL:https://skvhouston.org/event/upcoming-events/
LOCATION:Our Address\, 10251 Synott Rd\, Sugar Land\, TX\, 77498\, United States
END:VEVENT
END:VCALENDAR