BEGIN:VCALENDAR
VERSION:2.0
PRODID:-//Shri Krishna Vrundavana Houston - ECPv6.15.20//NONSGML v1.0//EN
CALSCALE:GREGORIAN
METHOD:PUBLISH
X-ORIGINAL-URL:https://skvhouston.org
X-WR-CALDESC:Events for Shri Krishna Vrundavana Houston
REFRESH-INTERVAL;VALUE=DURATION:PT1H
X-Robots-Tag:noindex
X-PUBLISHED-TTL:PT1H
BEGIN:VTIMEZONE
TZID:UTC
BEGIN:STANDARD
TZOFFSETFROM:+0000
TZOFFSETTO:+0000
TZNAME:UTC
DTSTART:20220101T000000
END:STANDARD
END:VTIMEZONE
BEGIN:VEVENT
DTSTART;TZID=UTC:20231023T090000
DTEND;TZID=UTC:20231023T113000
DTSTAMP:20260423T205945
CREATED:20231001T223010Z
LAST-MODIFIED:20231001T223734Z
UID:4329-1698051600-1698060600@skvhouston.org
SUMMARY:Pavmana Homa
DESCRIPTION:Sponsor Seva
URL:https://skvhouston.org/event/pavmana-homa/
LOCATION:TX
END:VEVENT
BEGIN:VEVENT
DTSTART;TZID=UTC:20231022T090000
DTEND;TZID=UTC:20231022T120000
DTSTAMP:20260423T205945
CREATED:20231001T222918Z
LAST-MODIFIED:20231001T223538Z
UID:4327-1697965200-1697976000@skvhouston.org
SUMMARY:Chandika Homa
DESCRIPTION:Sponsor Seva
URL:https://skvhouston.org/event/chandika-homa/
LOCATION:TX
END:VEVENT
BEGIN:VEVENT
DTSTART;TZID=UTC:20231021T180000
DTEND;TZID=UTC:20231021T210000
DTSTAMP:20260423T205945
CREATED:20231001T222648Z
LAST-MODIFIED:20231001T223716Z
UID:4321-1697911200-1697922000@skvhouston.org
SUMMARY:Lakshmi Shobane
DESCRIPTION:Sponsor Seva
URL:https://skvhouston.org/event/lakshmi-shobane/
LOCATION:Our Address\, 10251 Synott Rd\, Sugar Land\, TX\, 77498\, United States
END:VEVENT
BEGIN:VEVENT
DTSTART;TZID=UTC:20231021T090000
DTEND;TZID=UTC:20231021T120000
DTSTAMP:20260423T205945
CREATED:20231001T222840Z
LAST-MODIFIED:20231001T223704Z
UID:4325-1697878800-1697889600@skvhouston.org
SUMMARY:Durga Homa
DESCRIPTION:Sponsor Seva
URL:https://skvhouston.org/event/durga-homa/
LOCATION:TX
END:VEVENT
BEGIN:VEVENT
DTSTART;TZID=UTC:20231020T090000
DTEND;TZID=UTC:20231020T120000
DTSTAMP:20260423T205945
CREATED:20231001T222805Z
LAST-MODIFIED:20231001T223651Z
UID:4323-1697792400-1697803200@skvhouston.org
SUMMARY:Lakshmi Hrudaya Homa
DESCRIPTION:Sponsor Seva
URL:https://skvhouston.org/event/lakshmi-hrudaya-homa/
LOCATION:TX
END:VEVENT
BEGIN:VEVENT
DTSTART;TZID=UTC:20231015T080000
DTEND;TZID=UTC:20231022T210000
DTSTAMP:20260423T205945
CREATED:20230815T162621Z
LAST-MODIFIED:20231001T223636Z
UID:4151-1697356800-1698008400@skvhouston.org
SUMMARY:Navrathri
DESCRIPTION:Sponsor Seva
URL:https://skvhouston.org/event/navrathri/
LOCATION:Our Address\, 10251 Synott Rd\, Sugar Land\, TX\, 77498\, United States
END:VEVENT
BEGIN:VEVENT
DTSTART;TZID=UTC:20231014T110000
DTEND;TZID=UTC:20231014T150000
DTSTAMP:20260423T205945
CREATED:20231001T223226Z
LAST-MODIFIED:20231001T223552Z
UID:4333-1697281200-1697295600@skvhouston.org
SUMMARY:Solar Eclipse
DESCRIPTION:Exact time of eclipse: 11:10 am   2:49 pm \nSponsor Seva
URL:https://skvhouston.org/event/solar-eclipse/
LOCATION:TX
END:VEVENT
BEGIN:VEVENT
DTSTART;TZID=UTC:20230924T130000
DTEND;TZID=UTC:20230924T170000
DTSTAMP:20260423T205945
CREATED:20230815T162508Z
LAST-MODIFIED:20230815T162508Z
UID:4149-1695560400-1695574800@skvhouston.org
SUMMARY:Ganesha Visarjana
DESCRIPTION:
URL:https://skvhouston.org/event/ganesha-visarjana/
LOCATION:Our Address\, 10251 Synott Rd\, Sugar Land\, TX\, 77498\, United States
END:VEVENT
BEGIN:VEVENT
DTSTART;TZID=UTC:20230918T080000
DTEND;TZID=UTC:20230918T210000
DTSTAMP:20260423T205945
CREATED:20230815T162402Z
LAST-MODIFIED:20230815T162402Z
UID:4147-1695024000-1695070800@skvhouston.org
SUMMARY:Ganesha Chathurthi
DESCRIPTION:
URL:https://skvhouston.org/event/ganesha-chathurthi/
LOCATION:Our Address\, 10251 Synott Rd\, Sugar Land\, TX\, 77498\, United States
CATEGORIES:Pooja
END:VEVENT
BEGIN:VEVENT
DTSTART;TZID=UTC:20230909T140000
DTEND;TZID=UTC:20230909T210000
DTSTAMP:20260423T205945
CREATED:20230815T162307Z
LAST-MODIFIED:20230815T162307Z
UID:4144-1694268000-1694293200@skvhouston.org
SUMMARY:Shri Krishna Leelotsava
DESCRIPTION:
URL:https://skvhouston.org/event/shri-krishna-leelotsava-2/
LOCATION:Our Address\, 10251 Synott Rd\, Sugar Land\, TX\, 77498\, United States
END:VEVENT
BEGIN:VEVENT
DTSTART;TZID=UTC:20230906T000000
DTEND;TZID=UTC:20230906T060000
DTSTAMP:20260423T205945
CREATED:20230815T162214Z
LAST-MODIFIED:20230815T162214Z
UID:4143-1693958400-1693980000@skvhouston.org
SUMMARY:Shri Krishna Janmashtami
DESCRIPTION:
URL:https://skvhouston.org/event/shri-krishna-janmashtami-2/
LOCATION:Our Address\, 10251 Synott Rd\, Sugar Land\, TX\, 77498\, United States
END:VEVENT
BEGIN:VEVENT
DTSTART;TZID=UTC:20230902T070000
DTEND;TZID=UTC:20230902T190000
DTSTAMP:20260423T205945
CREATED:20230623T180139Z
LAST-MODIFIED:20230630T024711Z
UID:3986-1693638000-1693681200@skvhouston.org
SUMMARY:Shri Guru Raghavendra Swamy Aradhana
DESCRIPTION:Sponsor Aradhana Seva \nSponsor Groceries for Aradhana \n 
URL:https://skvhouston.org/event/shri-guru-raghavendra-swamy-aradhana/
LOCATION:Our Address\, 10251 Synott Rd\, Sugar Land\, TX\, 77498\, United States
END:VEVENT
BEGIN:VEVENT
DTSTART;TZID=UTC:20230830T080000
DTEND;TZID=UTC:20230830T103000
DTSTAMP:20260423T205945
CREATED:20230815T162031Z
LAST-MODIFIED:20230815T162031Z
UID:4141-1693382400-1693391400@skvhouston.org
SUMMARY:Yajurveda Upakarma
DESCRIPTION:
URL:https://skvhouston.org/event/yajurveda-upakarma/
LOCATION:Our Address\, 10251 Synott Rd\, Sugar Land\, TX\, 77498\, United States
END:VEVENT
BEGIN:VEVENT
DTSTART;TZID=UTC:20230829T060000
DTEND;TZID=UTC:20230829T110000
DTSTAMP:20260423T205945
CREATED:20230815T161914Z
LAST-MODIFIED:20230815T161914Z
UID:4138-1693288800-1693306800@skvhouston.org
SUMMARY:Rigveda Upakarma
DESCRIPTION:
URL:https://skvhouston.org/event/rigveda-upakarma/
LOCATION:Our Address\, 10251 Synott Rd\, Sugar Land\, TX\, 77498\, United States
END:VEVENT
BEGIN:VEVENT
DTSTART;TZID=UTC:20230821T100000
DTEND;TZID=UTC:20230821T123000
DTSTAMP:20260423T205945
CREATED:20230815T161731Z
LAST-MODIFIED:20230815T161935Z
UID:4136-1692612000-1692621000@skvhouston.org
SUMMARY:Nagapanchami - Asleshabali
DESCRIPTION:
URL:https://skvhouston.org/event/nagapanchami/
LOCATION:Our Address\, 10251 Synott Rd\, Sugar Land\, TX\, 77498\, United States
END:VEVENT
BEGIN:VEVENT
DTSTART;TZID=UTC:20230804T080000
DTEND;TZID=UTC:20230804T170000
DTSTAMP:20260423T205945
CREATED:20230324T165453Z
LAST-MODIFIED:20230513T202017Z
UID:3805-1691136000-1691168400@skvhouston.org
SUMMARY:Sankatahara Chathurthi
DESCRIPTION:
URL:https://skvhouston.org/event/sankatahara-chathurthi-4/
LOCATION:Our Address\, 10251 Synott Rd\, Sugar Land\, TX\, 77498\, United States
CATEGORIES:Pooja
END:VEVENT
BEGIN:VEVENT
DTSTART;TZID=UTC:20230801T180000
DTEND;TZID=UTC:20230801T210000
DTSTAMP:20260423T205945
CREATED:20230324T164406Z
LAST-MODIFIED:20230324T164406Z
UID:3795-1690912800-1690923600@skvhouston.org
SUMMARY:Shri Satyanarayana Puja
DESCRIPTION:
URL:https://skvhouston.org/event/shri-satyanarayana-puja-5/
LOCATION:TX
CATEGORIES:Pooja
END:VEVENT
BEGIN:VEVENT
DTSTART;TZID=UTC:20230715T160000
DTEND;TZID=UTC:20230715T210000
DTSTAMP:20260423T205945
CREATED:20230528T223626Z
LAST-MODIFIED:20230605T160048Z
UID:3909-1689436800-1689454800@skvhouston.org
SUMMARY:Dr. Vidyabhushana Music Concert
DESCRIPTION:Save the date !! \nBuy Tickets
URL:https://skvhouston.org/event/dr-vidyabhushana-music-concert/
LOCATION:Our Address\, 10251 Synott Rd\, Sugar Land\, TX\, 77498\, United States
CATEGORIES:Tours
END:VEVENT
BEGIN:VEVENT
DTSTART;TZID=UTC:20230705T080000
DTEND;TZID=UTC:20230705T200000
DTSTAMP:20260423T205945
CREATED:20230324T165238Z
LAST-MODIFIED:20230513T202304Z
UID:3802-1688544000-1688587200@skvhouston.org
SUMMARY:Sankatahara Chathurthi
DESCRIPTION:Sankatahara Chathurthi
URL:https://skvhouston.org/event/sankatahara-chathurthi-3/
LOCATION:TX
CATEGORIES:Pooja
END:VEVENT
BEGIN:VEVENT
DTSTART;TZID=UTC:20230703T180000
DTEND;TZID=UTC:20230703T210000
DTSTAMP:20260423T205945
CREATED:20230324T164315Z
LAST-MODIFIED:20230702T222449Z
UID:3793-1688407200-1688418000@skvhouston.org
SUMMARY:Shri Satyanarayana Puja
DESCRIPTION:
URL:https://skvhouston.org/event/shri-satyanarayana-puja-4/
LOCATION:TX
CATEGORIES:Pooja
END:VEVENT
BEGIN:VEVENT
DTSTART;TZID=UTC:20230603T180000
DTEND;TZID=UTC:20230603T210000
DTSTAMP:20260423T205945
CREATED:20230324T163655Z
LAST-MODIFIED:20230324T163851Z
UID:3790-1685815200-1685826000@skvhouston.org
SUMMARY:Shri Satyanarayana Puja
DESCRIPTION:
URL:https://skvhouston.org/event/shri-satyanarayana-puja-3/
LOCATION:Our Address\, 10251 Synott Rd\, Sugar Land\, TX\, 77498\, United States
CATEGORIES:Pooja
END:VEVENT
BEGIN:VEVENT
DTSTART;TZID=UTC:20230514T160000
DTEND;TZID=UTC:20230514T180000
DTSTAMP:20260423T205945
CREATED:20230513T201228Z
LAST-MODIFIED:20230513T203953Z
UID:3887-1684080000-1684087200@skvhouston.org
SUMMARY:Dasavani Concert by Smt Nandini Rao
DESCRIPTION:Dasavani Concert by Smt Nandini Rao \nPlease support the concert
URL:https://skvhouston.org/event/dasavani-concert/
LOCATION:Our Address\, 10251 Synott Rd\, Sugar Land\, TX\, 77498\, United States
END:VEVENT
BEGIN:VEVENT
DTSTART;TZID=UTC:20230508T080000
DTEND;TZID=UTC:20230508T200000
DTSTAMP:20260423T205945
CREATED:20230324T165139Z
LAST-MODIFIED:20230324T165139Z
UID:3800-1683532800-1683576000@skvhouston.org
SUMMARY:Sankatahara Chathurthi
DESCRIPTION:
URL:https://skvhouston.org/event/sankatahara-chathurthi-2/
LOCATION:TX
CATEGORIES:Pooja
END:VEVENT
BEGIN:VEVENT
DTSTART;TZID=UTC:20230505T180000
DTEND;TZID=UTC:20230505T203000
DTSTAMP:20260423T205945
CREATED:20230324T163448Z
LAST-MODIFIED:20230501T172911Z
UID:3788-1683309600-1683318600@skvhouston.org
SUMMARY:Shri Satyanarayana Puja
DESCRIPTION:
URL:https://skvhouston.org/event/shri-satyanarayana-puja-2/
LOCATION:Our Address\, 10251 Synott Rd\, Sugar Land\, TX\, 77498\, United States
CATEGORIES:Pooja
END:VEVENT
BEGIN:VEVENT
DTSTART;TZID=UTC:20230504T080000
DTEND;TZID=UTC:20230504T200000
DTSTAMP:20260423T205945
CREATED:20230501T173409Z
LAST-MODIFIED:20230501T173409Z
UID:3865-1683187200-1683230400@skvhouston.org
SUMMARY:Shri Narasimha Jayanthi
DESCRIPTION:Manyu Suktha Homa @10:00 am \nDeepothsava/Archana @7:00 pm
URL:https://skvhouston.org/event/shri-narasimha-jayanthi/
LOCATION:Our Address\, 10251 Synott Rd\, Sugar Land\, TX\, 77498\, United States
END:VEVENT
BEGIN:VEVENT
DTSTART;TZID=UTC:20230409T080000
DTEND;TZID=UTC:20230409T210000
DTSTAMP:20260423T205945
CREATED:20230324T165043Z
LAST-MODIFIED:20230324T165043Z
UID:3798-1681027200-1681074000@skvhouston.org
SUMMARY:Sankatahara Chathurthi
DESCRIPTION:
URL:https://skvhouston.org/event/sankatahara-chathurthi/
LOCATION:TX
CATEGORIES:Pooja
END:VEVENT
BEGIN:VEVENT
DTSTART;TZID=UTC:20230405T080000
DTEND;TZID=UTC:20230405T180000
DTSTAMP:20260423T205945
CREATED:20230324T162409Z
LAST-MODIFIED:20230324T162409Z
UID:3785-1680681600-1680717600@skvhouston.org
SUMMARY:Shri Satyanarayana Puja
DESCRIPTION:Purnima\, Sathyanarayana Pooja
URL:https://skvhouston.org/event/shri-satyanarayana-puja/
LOCATION:Our Address\, 10251 Synott Rd\, Sugar Land\, TX\, 77498\, United States
CATEGORIES:Pooja
END:VEVENT
BEGIN:VEVENT
DTSTART;TZID=UTC:20230402T060000
DTEND;TZID=UTC:20230402T200000
DTSTAMP:20260423T205945
CREATED:20230324T170532Z
LAST-MODIFIED:20230327T161350Z
UID:3810-1680415200-1680465600@skvhouston.org
SUMMARY:Akhanda Ekaha Bhajana Seetha Rama Kalyanotsava
DESCRIPTION:
URL:https://skvhouston.org/event/akhana-ekaha-bhajana-seetha-rama-kalyanotsava/
LOCATION:TX
CATEGORIES:Pooja
END:VEVENT
BEGIN:VEVENT
DTSTART;TZID=UTC:20230121T180000
DTEND;TZID=UTC:20230121T210000
DTSTAMP:20260423T205945
CREATED:20221231T223145Z
LAST-MODIFIED:20221231T223840Z
UID:3765-1674324000-1674334800@skvhouston.org
SUMMARY:Amavasya  Shri Durga Pooja
DESCRIPTION:6:00 PM
URL:https://skvhouston.org/event/amavasya-durga-pooja/
LOCATION:TX
END:VEVENT
BEGIN:VEVENT
DTSTART;TZID=UTC:20230110T080000
DTEND;TZID=UTC:20230110T170000
DTSTAMP:20260423T205945
CREATED:20221231T223046Z
LAST-MODIFIED:20221231T223046Z
UID:3763-1673337600-1673370000@skvhouston.org
SUMMARY:Sankatahari Chaturthi \, Gana Homa
DESCRIPTION:8:00 Am onwards
URL:https://skvhouston.org/event/sankatahari-chaturthi-gana-homa/
LOCATION:TX
END:VEVENT
END:VCALENDAR