BEGIN:VCALENDAR
VERSION:2.0
PRODID:-//Shri Krishna Vrundavana Houston - ECPv6.15.20//NONSGML v1.0//EN
CALSCALE:GREGORIAN
METHOD:PUBLISH
X-WR-CALNAME:Shri Krishna Vrundavana Houston
X-ORIGINAL-URL:https://skvhouston.org
X-WR-CALDESC:Events for Shri Krishna Vrundavana Houston
REFRESH-INTERVAL;VALUE=DURATION:PT1H
X-Robots-Tag:noindex
X-PUBLISHED-TTL:PT1H
BEGIN:VTIMEZONE
TZID:UTC
BEGIN:STANDARD
TZOFFSETFROM:+0000
TZOFFSETTO:+0000
TZNAME:UTC
DTSTART:20240101T000000
END:STANDARD
END:VTIMEZONE
BEGIN:VEVENT
DTSTART;TZID=UTC:20250412T180000
DTEND;TZID=UTC:20250412T180000
DTSTAMP:20260424T050306
CREATED:20250409T044052Z
LAST-MODIFIED:20250409T044052Z
UID:6569-1744480800-1744480800@skvhouston.org
SUMMARY:Poornima\, Shri Sathyanarayana Pooja\, Hanuman Jayanthi
DESCRIPTION:
URL:https://skvhouston.org/event/poornima-shri-sathyanarayana-pooja-hanuman-jayanthi/
CATEGORIES:Pooja
END:VEVENT
END:VCALENDAR