BEGIN:VCALENDAR
VERSION:2.0
PRODID:-//Shri Krishna Vrundavana Houston - ECPv6.15.20//NONSGML v1.0//EN
CALSCALE:GREGORIAN
METHOD:PUBLISH
X-ORIGINAL-URL:https://skvhouston.org
X-WR-CALDESC:Events for Shri Krishna Vrundavana Houston
REFRESH-INTERVAL;VALUE=DURATION:PT1H
X-Robots-Tag:noindex
X-PUBLISHED-TTL:PT1H
BEGIN:VTIMEZONE
TZID:UTC
BEGIN:STANDARD
TZOFFSETFROM:+0000
TZOFFSETTO:+0000
TZNAME:UTC
DTSTART:20210101T000000
END:STANDARD
END:VTIMEZONE
BEGIN:VEVENT
DTSTART;TZID=UTC:20220410T060000
DTEND;TZID=UTC:20220410T200000
DTSTAMP:20260426T011318
CREATED:20220307T054525Z
LAST-MODIFIED:20220308T004316Z
UID:3383-1649570400-1649620800@skvhouston.org
SUMMARY:Seeta Rama Kalyanotsava
DESCRIPTION:
URL:https://skvhouston.org/event/seeta-rama-kalyanotsava/
LOCATION:Our Address\, 10251 Synott Rd\, Sugar Land\, TX\, 77498\, United States
CATEGORIES:Pooja,Seva
ATTACH;FMTTYPE=image/jpeg:https://skvhouston.org/wp-content/uploads/2022/03/4A04AB46-BE44-45DB-AD06-213762C48B0F.jpeg
END:VEVENT
END:VCALENDAR