BEGIN:VCALENDAR
VERSION:2.0
PRODID:-//Shri Krishna Vrundavana Houston - ECPv6.15.20//NONSGML v1.0//EN
CALSCALE:GREGORIAN
METHOD:PUBLISH
X-ORIGINAL-URL:https://skvhouston.org
X-WR-CALDESC:Events for Shri Krishna Vrundavana Houston
REFRESH-INTERVAL;VALUE=DURATION:PT1H
X-Robots-Tag:noindex
X-PUBLISHED-TTL:PT1H
BEGIN:VTIMEZONE
TZID:UTC
BEGIN:STANDARD
TZOFFSETFROM:+0000
TZOFFSETTO:+0000
TZNAME:UTC
DTSTART:20250101T000000
END:STANDARD
END:VTIMEZONE
BEGIN:VEVENT
DTSTART;VALUE=DATE:20260925
DTEND;VALUE=DATE:20260926
DTSTAMP:20260423T160743
CREATED:20251211T223327Z
LAST-MODIFIED:20251211T223327Z
UID:8663-1790294400-1790380799@skvhouston.org
SUMMARY:Anantha Chaturdashi
DESCRIPTION:Anantha Padbhanabha Vrata Pooja
URL:https://skvhouston.org/event/anantha-chaturdashi/
CATEGORIES:Pooja
END:VEVENT
END:VCALENDAR