BEGIN:VCALENDAR
VERSION:2.0
PRODID:-//Shri Krishna Vrundavana Houston - ECPv6.15.20//NONSGML v1.0//EN
CALSCALE:GREGORIAN
METHOD:PUBLISH
X-WR-CALNAME:Shri Krishna Vrundavana Houston
X-ORIGINAL-URL:https://skvhouston.org
X-WR-CALDESC:Events for Shri Krishna Vrundavana Houston
REFRESH-INTERVAL;VALUE=DURATION:PT1H
X-Robots-Tag:noindex
X-PUBLISHED-TTL:PT1H
BEGIN:VTIMEZONE
TZID:UTC
BEGIN:STANDARD
TZOFFSETFROM:+0000
TZOFFSETTO:+0000
TZNAME:UTC
DTSTART:20240101T000000
END:STANDARD
END:VTIMEZONE
BEGIN:VEVENT
DTSTART;TZID=UTC:20250101T090000
DTEND;TZID=UTC:20250101T090000
DTSTAMP:20260424T082930
CREATED:20241223T165734Z
LAST-MODIFIED:20241223T165734Z
UID:6048-1735722000-1735722000@skvhouston.org
SUMMARY:Ganahoma
DESCRIPTION:
URL:https://skvhouston.org/event/ganahoma/
LOCATION:Our Address\, 10251 Synott Rd\, Sugar Land\, TX\, 77498\, United States
CATEGORIES:Pooja
END:VEVENT
BEGIN:VEVENT
DTSTART;TZID=UTC:20250101T100000
DTEND;TZID=UTC:20250101T100000
DTSTAMP:20260424T082930
CREATED:20241223T165734Z
LAST-MODIFIED:20241223T165734Z
UID:6049-1735725600-1735725600@skvhouston.org
SUMMARY:Sathyanarayana pooja
DESCRIPTION:
URL:https://skvhouston.org/event/sathyanarayana-pooja/
LOCATION:Our Address\, 10251 Synott Rd\, Sugar Land\, TX\, 77498\, United States
CATEGORIES:Pooja
END:VEVENT
BEGIN:VEVENT
DTSTART;TZID=UTC:20250109T053000
DTEND;TZID=UTC:20250109T053000
DTSTAMP:20260424T082930
CREATED:20241223T165735Z
LAST-MODIFIED:20241223T170023Z
UID:6050-1736400600-1736400600@skvhouston.org
SUMMARY:Vaikunta Ekadashi\, Vaikunta Dwara Darshana
DESCRIPTION:
URL:https://skvhouston.org/event/vaikunta-ekadashi-vaikunta-dwara-darshana/
LOCATION:Our Address\, 10251 Synott Rd\, Sugar Land\, TX\, 77498\, United States
CATEGORIES:Pooja
END:VEVENT
BEGIN:VEVENT
DTSTART;TZID=UTC:20250113T180000
DTEND;TZID=UTC:20250113T180000
DTSTAMP:20260424T082930
CREATED:20241223T165735Z
LAST-MODIFIED:20241223T165735Z
UID:6051-1736791200-1736791200@skvhouston.org
SUMMARY:Poornima\, Shri Sathyanarayana Pooja
DESCRIPTION:
URL:https://skvhouston.org/event/poornima-shri-sathyanarayana-pooja/
LOCATION:Our Address\, 10251 Synott Rd\, Sugar Land\, TX\, 77498\, United States
CATEGORIES:Pooja
END:VEVENT
BEGIN:VEVENT
DTSTART;TZID=UTC:20250114T100000
DTEND;TZID=UTC:20250114T100000
DTSTAMP:20260424T082930
CREATED:20241223T165735Z
LAST-MODIFIED:20241223T165735Z
UID:6052-1736848800-1736848800@skvhouston.org
SUMMARY:Makara Sankranthi pooja and Sudarshana Homa
DESCRIPTION:
URL:https://skvhouston.org/event/makara-sankranthi-pooja-and-sudarshana-homa/
LOCATION:Our Address\, 10251 Synott Rd\, Sugar Land\, TX\, 77498\, United States
CATEGORIES:Pooja
END:VEVENT
BEGIN:VEVENT
DTSTART;TZID=UTC:20250117T080000
DTEND;TZID=UTC:20250117T080000
DTSTAMP:20260424T082930
CREATED:20241223T165737Z
LAST-MODIFIED:20241223T165737Z
UID:6053-1737100800-1737100800@skvhouston.org
SUMMARY:Sankatahara Chaturthi\, Ganahoma
DESCRIPTION:
URL:https://skvhouston.org/event/sankatahara-chaturthi-ganahoma-2/
LOCATION:Our Address\, 10251 Synott Rd\, Sugar Land\, TX\, 77498\, United States
CATEGORIES:Pooja
END:VEVENT
BEGIN:VEVENT
DTSTART;TZID=UTC:20250128T180000
DTEND;TZID=UTC:20250128T180000
DTSTAMP:20260424T082930
CREATED:20241223T165737Z
LAST-MODIFIED:20241223T165737Z
UID:6054-1738087200-1738087200@skvhouston.org
SUMMARY:Amavasya\, Durga pooja\, Purandara Dasa Aradhana
DESCRIPTION:
URL:https://skvhouston.org/event/amavasya-durga-pooja-purandara-dasa-aradhana/
LOCATION:Our Address\, 10251 Synott Rd\, Sugar Land\, TX\, 77498\, United States
CATEGORIES:Pooja
END:VEVENT
END:VCALENDAR