BEGIN:VCALENDAR
VERSION:2.0
PRODID:-//Shri Krishna Vrundavana Houston - ECPv6.15.20//NONSGML v1.0//EN
CALSCALE:GREGORIAN
METHOD:PUBLISH
X-ORIGINAL-URL:https://skvhouston.org
X-WR-CALDESC:Events for Shri Krishna Vrundavana Houston
REFRESH-INTERVAL;VALUE=DURATION:PT1H
X-Robots-Tag:noindex
X-PUBLISHED-TTL:PT1H
BEGIN:VTIMEZONE
TZID:UTC
BEGIN:STANDARD
TZOFFSETFROM:+0000
TZOFFSETTO:+0000
TZNAME:UTC
DTSTART:20250101T000000
END:STANDARD
END:VTIMEZONE
BEGIN:VEVENT
DTSTART;TZID=UTC:20261016T090000
DTEND;TZID=UTC:20261016T130000
DTSTAMP:20260423T160745
CREATED:20251214T181953Z
LAST-MODIFIED:20251214T182134Z
UID:8705-1792141200-1792155600@skvhouston.org
SUMMARY:Navaratri Lakshmi Narayana Hrudaya Homa
DESCRIPTION:Lakshmi Narayana Hrudaya Homa at 9am
URL:https://skvhouston.org/event/navaratri-lakshmi-narayana-hrudaya-homa/
CATEGORIES:Homa
END:VEVENT
BEGIN:VEVENT
DTSTART;TZID=UTC:20261020T080000
DTEND;TZID=UTC:20261020T130000
DTSTAMP:20260423T160745
CREATED:20251214T182539Z
LAST-MODIFIED:20251214T182610Z
UID:8707-1792483200-1792501200@skvhouston.org
SUMMARY:Vijaya Dashami Pavamana Homa and Aksharabhyasa
DESCRIPTION:Pavamana Homa at 8am to 11am \nAksharabhyasa at 11am followed by Prasada
URL:https://skvhouston.org/event/vijaya-dashami-pavamana-homa-and-aksharabhyasa/
CATEGORIES:Homa
END:VEVENT
END:VCALENDAR