BEGIN:VCALENDAR
VERSION:2.0
PRODID:-//Shri Krishna Vrundavana Houston - ECPv6.15.20//NONSGML v1.0//EN
CALSCALE:GREGORIAN
METHOD:PUBLISH
X-WR-CALNAME:Shri Krishna Vrundavana Houston
X-ORIGINAL-URL:https://skvhouston.org
X-WR-CALDESC:Events for Shri Krishna Vrundavana Houston
REFRESH-INTERVAL;VALUE=DURATION:PT1H
X-Robots-Tag:noindex
X-PUBLISHED-TTL:PT1H
BEGIN:VTIMEZONE
TZID:UTC
BEGIN:STANDARD
TZOFFSETFROM:+0000
TZOFFSETTO:+0000
TZNAME:UTC
DTSTART:20250101T000000
END:STANDARD
END:VTIMEZONE
BEGIN:VEVENT
DTSTART;VALUE=DATE:20260426
DTEND;VALUE=DATE:20260427
DTSTAMP:20260423T101635
CREATED:20260411T024235Z
LAST-MODIFIED:20260411T161433Z
UID:9742-1777161600-1777247999@skvhouston.org
SUMMARY:Raaga Sangama By Vishwesh Bhat
DESCRIPTION:🌟 Raaga Sangama – Music Concert 🎶 \n📅 Sunday\, April 26⏰ 2:30 PM – 6:30 PM📍 Venue: 10251 Synott Road\, Sugar Land\, TX 77498 \n✨ Program Highlights: \n🎤 2:30 PM – 4:00 PM: Shri Vishwesh Bhat & Team– A unique Indian classical Raaga-based musical presentation \n🎶 4:30 PM – 6:30 PM: Smt. Vidya Kalyanaraman & Team– Grand classical vocal concert presented by Aikyam & Hyma\, Houston \nPlease join us to celebrate the divine music festival \n \nDonations are Welcome \nhttps://skvhouston.org/donation-programs/
URL:https://skvhouston.org/event/raaga-sangama-by-vishwesh-bhat/
END:VEVENT
BEGIN:VEVENT
DTSTART;VALUE=DATE:20260430
DTEND;VALUE=DATE:20260501
DTSTAMP:20260423T101635
CREATED:20251211T215417Z
LAST-MODIFIED:20251211T215641Z
UID:8645-1777507200-1777593599@skvhouston.org
SUMMARY:Narasimha Jayanthi
DESCRIPTION:Manyusuktha Homa at 10am
URL:https://skvhouston.org/event/narasimha-jayanthi/
END:VEVENT
BEGIN:VEVENT
DTSTART;VALUE=DATE:20260516
DTEND;VALUE=DATE:20260517
DTSTAMP:20260423T101635
CREATED:20260411T023106Z
LAST-MODIFIED:20260411T023106Z
UID:9736-1778889600-1778975999@skvhouston.org
SUMMARY:Global Salutation in United States – Bannanje 90 🙏
DESCRIPTION:Dear All\, \nWe are delighted to invite you to the Houston celebration of Bannanje Govindacharya’s 90th Birthday – a grand occasion of joy\, devotion\, and reverence! \n📅 Date: Saturday\, May 16\, 2026\n⏰ Time: 9:00 AM – 3:00 PM\n📍 Venue: Shri Krishna Vrundavana\n10251 Synott Rd\, Sugar Land\, TX 77498\, Houston \n🎉 A full day of festivities is planned\, including:\n* Devotional programs\n* Cultural performances\n* And much more!\n📌 Please block your calendar for the entire day (9 AM – 3 PM) as we have a packed schedule of events you won’t want to miss! Details of the events will be published soon. \nDo join us for this blessed event. All are welcome! 🪔 https://www.jotform.com/txtemple.org/bannanje-90-ra-namana
URL:https://skvhouston.org/event/global-salutation-in-united-states-bannanje-90-%f0%9f%99%8f/
END:VEVENT
BEGIN:VEVENT
DTSTART;VALUE=DATE:20260530
DTEND;VALUE=DATE:20260531
DTSTAMP:20260423T101635
CREATED:20260411T025220Z
LAST-MODIFIED:20260411T025220Z
UID:9745-1780099200-1780185599@skvhouston.org
SUMMARY:Grand Shrinivasa Kalyanotsava by Devotees
DESCRIPTION:
URL:https://skvhouston.org/event/grand-shrinivasa-kalyanotsava-by-devotees/
END:VEVENT
BEGIN:VEVENT
DTSTART;VALUE=DATE:20260817
DTEND;VALUE=DATE:20260818
DTSTAMP:20260423T101635
CREATED:20251211T220303Z
LAST-MODIFIED:20251211T220303Z
UID:8647-1786924800-1787011199@skvhouston.org
SUMMARY:Naga Panchami
DESCRIPTION:Ashleshabali at 10am to Noon followed by Prasada
URL:https://skvhouston.org/event/naga-panchami-2/
END:VEVENT
BEGIN:VEVENT
DTSTART;VALUE=DATE:20260821
DTEND;VALUE=DATE:20260822
DTSTAMP:20260423T101635
CREATED:20251211T220451Z
LAST-MODIFIED:20251211T220451Z
UID:8649-1787270400-1787356799@skvhouston.org
SUMMARY:Vara Mahalakshmi
DESCRIPTION:
URL:https://skvhouston.org/event/vara-mahalakshmi/
END:VEVENT
BEGIN:VEVENT
DTSTART;VALUE=DATE:20260826
DTEND;VALUE=DATE:20260827
DTSTAMP:20260423T101635
CREATED:20251211T220725Z
LAST-MODIFIED:20251211T220725Z
UID:8651-1787702400-1787788799@skvhouston.org
SUMMARY:Upakarma-Rugveda and Yajurveda
DESCRIPTION:Upakarma starts at 6am to 8am
URL:https://skvhouston.org/event/upakarma-rugveda-and-yajurveda/
END:VEVENT
BEGIN:VEVENT
DTSTART;VALUE=DATE:20260829
DTEND;VALUE=DATE:20260830
DTSTAMP:20260423T101635
CREATED:20251211T220908Z
LAST-MODIFIED:20251211T220908Z
UID:8653-1787961600-1788047999@skvhouston.org
SUMMARY:Shri Guru Raghavendra Swamiji Aradhana Mahotsava
DESCRIPTION:Full Day Event
URL:https://skvhouston.org/event/shri-guru-raghavendra-swamiji-aradhana-mahotsava/
END:VEVENT
BEGIN:VEVENT
DTSTART;VALUE=DATE:20260904
DTEND;VALUE=DATE:20260905
DTSTAMP:20260423T101635
CREATED:20251211T221310Z
LAST-MODIFIED:20251211T221310Z
UID:8655-1788480000-1788566399@skvhouston.org
SUMMARY:Shri Krishna Janmashtami
DESCRIPTION:Arghya Pradana at Midnight
URL:https://skvhouston.org/event/shri-krishna-janmashtami-4/
END:VEVENT
BEGIN:VEVENT
DTSTART;VALUE=DATE:20260905
DTEND;VALUE=DATE:20260906
DTSTAMP:20260423T101635
CREATED:20251211T222505Z
LAST-MODIFIED:20251211T222505Z
UID:8657-1788566400-1788652799@skvhouston.org
SUMMARY:Shri Krishna Leelotsava
DESCRIPTION:Competition starts at 2pm to 6pm \nFancy dress Competition \nKrishna Art  Competition \nLaddu making Competition \nPot Breaking Competition \nQuiz Competition
URL:https://skvhouston.org/event/shri-krishna-leelotsava-4/
END:VEVENT
BEGIN:VEVENT
DTSTART;VALUE=DATE:20260914
DTEND;VALUE=DATE:20260915
DTSTAMP:20260423T101635
CREATED:20251211T222842Z
LAST-MODIFIED:20251211T222842Z
UID:8659-1789344000-1789430399@skvhouston.org
SUMMARY:Ganesha Chathurthi
DESCRIPTION:Dwadasha Narikela Ganahoma at 9am \nAbhisheka and Alankara Seva 10:30 to Noon followed by Prasada
URL:https://skvhouston.org/event/ganesha-chathurthi-2/
END:VEVENT
BEGIN:VEVENT
DTSTART;VALUE=DATE:20260915
DTEND;VALUE=DATE:20260916
DTSTAMP:20260423T101635
CREATED:20251211T223104Z
LAST-MODIFIED:20251211T223104Z
UID:8661-1789430400-1789516799@skvhouston.org
SUMMARY:Guru Vardhanthi
DESCRIPTION:His Holiness 1008 Shri Shri Sugunendra Theertha Swamiji 65th Vardhanthi
URL:https://skvhouston.org/event/guru-vardhanthi/
END:VEVENT
BEGIN:VEVENT
DTSTART;VALUE=DATE:20260925
DTEND;VALUE=DATE:20260926
DTSTAMP:20260423T101635
CREATED:20251211T223327Z
LAST-MODIFIED:20251211T223327Z
UID:8663-1790294400-1790380799@skvhouston.org
SUMMARY:Anantha Chaturdashi
DESCRIPTION:Anantha Padbhanabha Vrata Pooja
URL:https://skvhouston.org/event/anantha-chaturdashi/
CATEGORIES:Pooja
END:VEVENT
BEGIN:VEVENT
DTSTART;TZID=UTC:20260927T070000
DTEND;TZID=UTC:20261010T120000
DTSTAMP:20260423T101635
CREATED:20251211T223529Z
LAST-MODIFIED:20251211T223634Z
UID:8665-1790492400-1791633600@skvhouston.org
SUMMARY:Mahalaya Paksha
DESCRIPTION:
URL:https://skvhouston.org/event/mahalaya-paksha-2/
END:VEVENT
BEGIN:VEVENT
DTSTART;VALUE=DATE:20261011
DTEND;VALUE=DATE:20261021
DTSTAMP:20260423T101635
CREATED:20251214T180204Z
LAST-MODIFIED:20251214T180204Z
UID:8698-1791676800-1792540799@skvhouston.org
SUMMARY:Navaratri
DESCRIPTION:Navaratri Shri Durga Pooja – (Oct 11th to 20th) Daily evening 5pm to 8pm followed by Prasada \nNavaratri Sangeetha Seva – (Oct 11th to 20th) Daily Evening 6pm to 7pm by various artists. \nVijayadashami – Oct 20th Pavamana Homa\, Aksharabhyasa\, Shanthi pooja\, Mangala pooja. \nIf you like to sponsor the Seva please follow the Link
URL:https://skvhouston.org/event/navaratri-2/
END:VEVENT
BEGIN:VEVENT
DTSTART;TZID=UTC:20261016T090000
DTEND;TZID=UTC:20261016T130000
DTSTAMP:20260423T101635
CREATED:20251214T181953Z
LAST-MODIFIED:20251214T182134Z
UID:8705-1792141200-1792155600@skvhouston.org
SUMMARY:Navaratri Lakshmi Narayana Hrudaya Homa
DESCRIPTION:Lakshmi Narayana Hrudaya Homa at 9am
URL:https://skvhouston.org/event/navaratri-lakshmi-narayana-hrudaya-homa/
CATEGORIES:Homa
END:VEVENT
BEGIN:VEVENT
DTSTART;TZID=UTC:20261016T180000
DTEND;TZID=UTC:20261016T203000
DTSTAMP:20260423T101635
CREATED:20251214T213646Z
LAST-MODIFIED:20251214T213859Z
UID:8725-1792173600-1792182600@skvhouston.org
SUMMARY:Lakshmi Shobhane Parayana
DESCRIPTION:Navaratri- Shukravara – Lakshmi Shobhane Parayana 6pm and Sumangali Pooja followed by Prasada
URL:https://skvhouston.org/event/lakshmi-shobhane-parayana/
CATEGORIES:Pooja
END:VEVENT
BEGIN:VEVENT
DTSTART;TZID=UTC:20261017T090000
DTEND;TZID=UTC:20261017T130000
DTSTAMP:20260423T101635
CREATED:20251214T181604Z
LAST-MODIFIED:20251214T181651Z
UID:8702-1792227600-1792242000@skvhouston.org
SUMMARY:Navaratri Durga Homa
DESCRIPTION:Durga Homa at 9am to Noon followed by Prasada
URL:https://skvhouston.org/event/navaratri-durga-homa/
END:VEVENT
BEGIN:VEVENT
DTSTART;VALUE=DATE:20261018
DTEND;VALUE=DATE:20261019
DTSTAMP:20260423T101635
CREATED:20251214T180754Z
LAST-MODIFIED:20251214T180754Z
UID:8700-1792281600-1792367999@skvhouston.org
SUMMARY:Navaratri Chandika Homa
DESCRIPTION:Durgashtami-Chandika Homa is on Oct  18th 8:30am
URL:https://skvhouston.org/event/navaratri-chandika-homa/
END:VEVENT
BEGIN:VEVENT
DTSTART;TZID=UTC:20261020T080000
DTEND;TZID=UTC:20261020T130000
DTSTAMP:20260423T101635
CREATED:20251214T182539Z
LAST-MODIFIED:20251214T182610Z
UID:8707-1792483200-1792501200@skvhouston.org
SUMMARY:Vijaya Dashami Pavamana Homa and Aksharabhyasa
DESCRIPTION:Pavamana Homa at 8am to 11am \nAksharabhyasa at 11am followed by Prasada
URL:https://skvhouston.org/event/vijaya-dashami-pavamana-homa-and-aksharabhyasa/
CATEGORIES:Homa
END:VEVENT
BEGIN:VEVENT
DTSTART;VALUE=DATE:20261107
DTEND;VALUE=DATE:20261108
DTSTAMP:20260423T101635
CREATED:20251214T182924Z
LAST-MODIFIED:20251214T182924Z
UID:8710-1794009600-1794095999@skvhouston.org
SUMMARY:Naraka Chaturdashi
DESCRIPTION:Thaila Abhyanga at Moon rise 5:08am
URL:https://skvhouston.org/event/naraka-chaturdashi/
CATEGORIES:Pooja
END:VEVENT
BEGIN:VEVENT
DTSTART;TZID=UTC:20261108T180000
DTEND;TZID=UTC:20261108T200000
DTSTAMP:20260423T101635
CREATED:20251214T183129Z
LAST-MODIFIED:20251214T183129Z
UID:8712-1794160800-1794168000@skvhouston.org
SUMMARY:Deepavali Amavasya
DESCRIPTION:Deepotsava\, Durga Pooja at 6pm to 8pm
URL:https://skvhouston.org/event/deepavali-amavasya/
END:VEVENT
BEGIN:VEVENT
DTSTART;TZID=UTC:20261115T070000
DTEND;TZID=UTC:20261115T200000
DTSTAMP:20260423T101635
CREATED:20251214T184746Z
LAST-MODIFIED:20251215T203603Z
UID:8714-1794726000-1794772800@skvhouston.org
SUMMARY:SKV Anniversary
DESCRIPTION:SKV Houston celebrating 15th Glorious Years. \nPanchamrutha\, 25 Kalasha Abhisheka\, Alankara pooja followed by Prasada- 9am to Noon. \nShri Venkateshwara Kalyana (Veda Mantra\, Sthothra\, Dasa sahithya padagalu\, Sangeetha\, Nruthya\, Kolata\, Nada Seva) at 5pm to 8pm followed by Prasada.
URL:https://skvhouston.org/event/skv-anniversary/
CATEGORIES:Pooja,Seva,Traditions
END:VEVENT
BEGIN:VEVENT
DTSTART;TZID=UTC:20261215T070000
DTEND;TZID=UTC:20261215T200000
DTSTAMP:20260423T101635
CREATED:20251214T185147Z
LAST-MODIFIED:20251215T175251Z
UID:8716-1797318000-1797364800@skvhouston.org
SUMMARY:Subrahmanya Shashti
DESCRIPTION:Skanda Homa and Ashleshabali Pooja 10 am to Noon
URL:https://skvhouston.org/event/subrahmanya-shashti/
CATEGORIES:Homa,Pooja
END:VEVENT
BEGIN:VEVENT
DTSTART;TZID=UTC:20261220T053000
DTEND;TZID=UTC:20261220T200000
DTSTAMP:20260423T101635
CREATED:20251214T185408Z
LAST-MODIFIED:20251215T203445Z
UID:8718-1797744600-1797796800@skvhouston.org
SUMMARY:Vaikunta Ekadashi\, Geetha Jayanthi
DESCRIPTION:Vaikunta dwara Dasrshana-Pravesha\, Suprabhata Seva\, Shalagrama Abhisheka\, Alankara pooja
URL:https://skvhouston.org/event/vaikunta-ekadashi-geetha-jayanthi/
CATEGORIES:Pooja,Seva
END:VEVENT
END:VCALENDAR