BEGIN:VCALENDAR
VERSION:2.0
PRODID:-//Shri Krishna Vrundavana Houston - ECPv6.15.20//NONSGML v1.0//EN
CALSCALE:GREGORIAN
METHOD:PUBLISH
X-WR-CALNAME:Shri Krishna Vrundavana Houston
X-ORIGINAL-URL:https://skvhouston.org
X-WR-CALDESC:Events for Shri Krishna Vrundavana Houston
REFRESH-INTERVAL;VALUE=DURATION:PT1H
X-Robots-Tag:noindex
X-PUBLISHED-TTL:PT1H
BEGIN:VTIMEZONE
TZID:UTC
BEGIN:STANDARD
TZOFFSETFROM:+0000
TZOFFSETTO:+0000
TZNAME:UTC
DTSTART:20250101T000000
END:STANDARD
END:VTIMEZONE
BEGIN:VEVENT
DTSTART;VALUE=DATE:20261011
DTEND;VALUE=DATE:20261021
DTSTAMP:20260423T181252
CREATED:20251214T180204Z
LAST-MODIFIED:20251214T180204Z
UID:8698-1791676800-1792540799@skvhouston.org
SUMMARY:Navaratri
DESCRIPTION:Navaratri Shri Durga Pooja – (Oct 11th to 20th) Daily evening 5pm to 8pm followed by Prasada \nNavaratri Sangeetha Seva – (Oct 11th to 20th) Daily Evening 6pm to 7pm by various artists. \nVijayadashami – Oct 20th Pavamana Homa\, Aksharabhyasa\, Shanthi pooja\, Mangala pooja. \nIf you like to sponsor the Seva please follow the Link
URL:https://skvhouston.org/event/navaratri-2/
END:VEVENT
END:VCALENDAR