BEGIN:VCALENDAR
VERSION:2.0
PRODID:-//Shri Krishna Vrundavana Houston - ECPv6.15.20//NONSGML v1.0//EN
CALSCALE:GREGORIAN
METHOD:PUBLISH
X-ORIGINAL-URL:https://skvhouston.org
X-WR-CALDESC:Events for Shri Krishna Vrundavana Houston
REFRESH-INTERVAL;VALUE=DURATION:PT1H
X-Robots-Tag:noindex
X-PUBLISHED-TTL:PT1H
BEGIN:VTIMEZONE
TZID:UTC
BEGIN:STANDARD
TZOFFSETFROM:+0000
TZOFFSETTO:+0000
TZNAME:UTC
DTSTART:20250101T000000
END:STANDARD
END:VTIMEZONE
BEGIN:VEVENT
DTSTART;VALUE=DATE:20260915
DTEND;VALUE=DATE:20260916
DTSTAMP:20260423T171212
CREATED:20251211T223104Z
LAST-MODIFIED:20251211T223104Z
UID:8661-1789430400-1789516799@skvhouston.org
SUMMARY:Guru Vardhanthi
DESCRIPTION:His Holiness 1008 Shri Shri Sugunendra Theertha Swamiji 65th Vardhanthi
URL:https://skvhouston.org/event/guru-vardhanthi/
END:VEVENT
END:VCALENDAR