BEGIN:VCALENDAR
VERSION:2.0
PRODID:-//Shri Krishna Vrundavana Houston - ECPv6.15.20//NONSGML v1.0//EN
CALSCALE:GREGORIAN
METHOD:PUBLISH
X-ORIGINAL-URL:https://skvhouston.org
X-WR-CALDESC:Events for Shri Krishna Vrundavana Houston
REFRESH-INTERVAL;VALUE=DURATION:PT1H
X-Robots-Tag:noindex
X-PUBLISHED-TTL:PT1H
BEGIN:VTIMEZONE
TZID:UTC
BEGIN:STANDARD
TZOFFSETFROM:+0000
TZOFFSETTO:+0000
TZNAME:UTC
DTSTART:20250101T000000
END:STANDARD
END:VTIMEZONE
BEGIN:VEVENT
DTSTART;VALUE=DATE:20260914
DTEND;VALUE=DATE:20260915
DTSTAMP:20260423T171212
CREATED:20251211T222842Z
LAST-MODIFIED:20251211T222842Z
UID:8659-1789344000-1789430399@skvhouston.org
SUMMARY:Ganesha Chathurthi
DESCRIPTION:Dwadasha Narikela Ganahoma at 9am \nAbhisheka and Alankara Seva 10:30 to Noon followed by Prasada
URL:https://skvhouston.org/event/ganesha-chathurthi-2/
END:VEVENT
END:VCALENDAR