BEGIN:VCALENDAR
VERSION:2.0
PRODID:-//Shri Krishna Vrundavana Houston - ECPv6.15.20//NONSGML v1.0//EN
CALSCALE:GREGORIAN
METHOD:PUBLISH
X-ORIGINAL-URL:https://skvhouston.org
X-WR-CALDESC:Events for Shri Krishna Vrundavana Houston
REFRESH-INTERVAL;VALUE=DURATION:PT1H
X-Robots-Tag:noindex
X-PUBLISHED-TTL:PT1H
BEGIN:VTIMEZONE
TZID:UTC
BEGIN:STANDARD
TZOFFSETFROM:+0000
TZOFFSETTO:+0000
TZNAME:UTC
DTSTART:20250101T000000
END:STANDARD
END:VTIMEZONE
BEGIN:VEVENT
DTSTART;TZID=UTC:20260420T190000
DTEND;TZID=UTC:20260420T203000
DTSTAMP:20260423T124022
CREATED:20260411T023809Z
LAST-MODIFIED:20260411T023809Z
UID:9739-1776711600-1776717000@skvhouston.org
SUMMARY:Divine Discourse: Learnings from Sri Rudram by Dr. Jayaraman Mahadevan (Ph.D)
DESCRIPTION:Dear Devotees\, \nWe invite you to a divine discourse:\n🕉️ Learnings from Sri Rudram 🕉️ \nFree Event \n📅 Monday\, April 20th\n⏰ 6:30 PM – 8:00 PM followed by prasadam\n📍 Venue: 10251 Synott Road\, Sugar Land\, TX \n🎤 Speaker:\nDr. Jayaraman Mahadevan (Ph.D)\nVedic Scholar | Yoga Philosopher\nProfessor & Dean\, SVYASA Yoga University\, Bangalore \n✨ Join us for a sacred exploration of Sri Rudram’s timeless wisdom. \n🙏 All devotees are warmly invited! \n \nDonations are welcome \nhttps://skvhouston.org/donation-programs/
URL:https://skvhouston.org/event/divine-discourse-learnings-from-sri-rudram-by-dr-jayaraman-mahadevan-ph-d/
END:VEVENT
END:VCALENDAR