BEGIN:VCALENDAR
VERSION:2.0
PRODID:-//Shri Krishna Vrundavana Houston - ECPv6.15.20//NONSGML v1.0//EN
CALSCALE:GREGORIAN
METHOD:PUBLISH
X-ORIGINAL-URL:https://skvhouston.org
X-WR-CALDESC:Events for Shri Krishna Vrundavana Houston
REFRESH-INTERVAL;VALUE=DURATION:PT1H
X-Robots-Tag:noindex
X-PUBLISHED-TTL:PT1H
BEGIN:VTIMEZONE
TZID:UTC
BEGIN:STANDARD
TZOFFSETFROM:+0000
TZOFFSETTO:+0000
TZNAME:UTC
DTSTART:20250101T000000
END:STANDARD
END:VTIMEZONE
BEGIN:VEVENT
DTSTART;VALUE=DATE:20260329
DTEND;VALUE=DATE:20260330
DTSTAMP:20260423T140132
CREATED:20251211T214133Z
LAST-MODIFIED:20251211T214133Z
UID:8636-1774742400-1774828799@skvhouston.org
SUMMARY:Akhanda Bhajana and Shri SeethaRama Kalyana
DESCRIPTION:Dwadashi Pooja at 5:45am \nAkhanda Bhajana Starts sharp 6am to 6pm \nJama Pooja at 6am\, 9am\, Noon\, 3pm\, 6pm \nSeetharama Kalyana 6pm- 8pm followed by Prasada \n 
URL:https://skvhouston.org/event/akhanda-bhajana-and-shri-seetharama-kalyana/
END:VEVENT
END:VCALENDAR