BEGIN:VCALENDAR
VERSION:2.0
PRODID:-//Shri Krishna Vrundavana Houston - ECPv6.15.20//NONSGML v1.0//EN
CALSCALE:GREGORIAN
METHOD:PUBLISH
X-ORIGINAL-URL:https://skvhouston.org
X-WR-CALDESC:Events for Shri Krishna Vrundavana Houston
REFRESH-INTERVAL;VALUE=DURATION:PT1H
X-Robots-Tag:noindex
X-PUBLISHED-TTL:PT1H
BEGIN:VTIMEZONE
TZID:UTC
BEGIN:STANDARD
TZOFFSETFROM:+0000
TZOFFSETTO:+0000
TZNAME:UTC
DTSTART:20250101T000000
END:STANDARD
END:VTIMEZONE
BEGIN:VEVENT
DTSTART;VALUE=DATE:20260215
DTEND;VALUE=DATE:20260216
DTSTAMP:20260423T151042
CREATED:20251211T211353Z
LAST-MODIFIED:20251214T212153Z
UID:8628-1771113600-1771199999@skvhouston.org
SUMMARY:Maha Shivaratri
DESCRIPTION:Shiva Panchakshari Mantra Homa at 10am \nEkadasha Rudra Abhisheka at 5pm to 8pm
URL:https://skvhouston.org/event/maha-shivaratri/
END:VEVENT
END:VCALENDAR