BEGIN:VCALENDAR
VERSION:2.0
PRODID:-//Shri Krishna Vrundavana Houston - ECPv6.15.20//NONSGML v1.0//EN
CALSCALE:GREGORIAN
METHOD:PUBLISH
X-ORIGINAL-URL:https://skvhouston.org
X-WR-CALDESC:Events for Shri Krishna Vrundavana Houston
REFRESH-INTERVAL;VALUE=DURATION:PT1H
X-Robots-Tag:noindex
X-PUBLISHED-TTL:PT1H
BEGIN:VTIMEZONE
TZID:UTC
BEGIN:STANDARD
TZOFFSETFROM:+0000
TZOFFSETTO:+0000
TZNAME:UTC
DTSTART:20250101T000000
END:STANDARD
END:VTIMEZONE
BEGIN:VEVENT
DTSTART;TZID=UTC:20260127T070000
DTEND;TZID=UTC:20260127T200000
DTSTAMP:20260423T150700
CREATED:20251211T210844Z
LAST-MODIFIED:20251211T211040Z
UID:8626-1769497200-1769544000@skvhouston.org
SUMMARY:Madhwa Navami
DESCRIPTION:Vayustuti Punascharane Homa at 9am
URL:https://skvhouston.org/event/madhwa-navami/
END:VEVENT
END:VCALENDAR