BEGIN:VCALENDAR
VERSION:2.0
PRODID:-//Shri Krishna Vrundavana Houston - ECPv6.15.20//NONSGML v1.0//EN
CALSCALE:GREGORIAN
METHOD:PUBLISH
X-WR-CALNAME:Shri Krishna Vrundavana Houston
X-ORIGINAL-URL:https://skvhouston.org
X-WR-CALDESC:Events for Shri Krishna Vrundavana Houston
REFRESH-INTERVAL;VALUE=DURATION:PT1H
X-Robots-Tag:noindex
X-PUBLISHED-TTL:PT1H
BEGIN:VTIMEZONE
TZID:UTC
BEGIN:STANDARD
TZOFFSETFROM:+0000
TZOFFSETTO:+0000
TZNAME:UTC
DTSTART:20240101T000000
END:STANDARD
END:VTIMEZONE
BEGIN:VEVENT
DTSTART;VALUE=DATE:20251116
DTEND;VALUE=DATE:20251117
DTSTAMP:20260423T182049
CREATED:20250707T215216Z
LAST-MODIFIED:20251008T051836Z
UID:7280-1763251200-1763337599@skvhouston.org
SUMMARY:14th Anniversary of SKV Houston
DESCRIPTION:Saanidhya Kalasha Abhisheka at 10am followed by Anna santharpane \nVenkatesha Kalyanotsava at 5pm followed by prasada \nFor Seva Please follow the link 
URL:https://skvhouston.org/event/14th-anniversary-of-skv-houston/
CATEGORIES:Pooja
END:VEVENT
END:VCALENDAR