BEGIN:VCALENDAR
VERSION:2.0
PRODID:-//Shri Krishna Vrundavana Houston - ECPv6.15.20//NONSGML v1.0//EN
CALSCALE:GREGORIAN
METHOD:PUBLISH
X-WR-CALNAME:Shri Krishna Vrundavana Houston
X-ORIGINAL-URL:https://skvhouston.org
X-WR-CALDESC:Events for Shri Krishna Vrundavana Houston
REFRESH-INTERVAL;VALUE=DURATION:PT1H
X-Robots-Tag:noindex
X-PUBLISHED-TTL:PT1H
BEGIN:VTIMEZONE
TZID:America/Chicago
BEGIN:DAYLIGHT
TZOFFSETFROM:-0600
TZOFFSETTO:-0500
TZNAME:CDT
DTSTART:20240310T080000
END:DAYLIGHT
BEGIN:STANDARD
TZOFFSETFROM:-0500
TZOFFSETTO:-0600
TZNAME:CST
DTSTART:20241103T070000
END:STANDARD
BEGIN:DAYLIGHT
TZOFFSETFROM:-0600
TZOFFSETTO:-0500
TZNAME:CDT
DTSTART:20250309T080000
END:DAYLIGHT
BEGIN:STANDARD
TZOFFSETFROM:-0500
TZOFFSETTO:-0600
TZNAME:CST
DTSTART:20251102T070000
END:STANDARD
BEGIN:DAYLIGHT
TZOFFSETFROM:-0600
TZOFFSETTO:-0500
TZNAME:CDT
DTSTART:20260308T080000
END:DAYLIGHT
BEGIN:STANDARD
TZOFFSETFROM:-0500
TZOFFSETTO:-0600
TZNAME:CST
DTSTART:20261101T070000
END:STANDARD
END:VTIMEZONE
BEGIN:VTIMEZONE
TZID:UTC
BEGIN:STANDARD
TZOFFSETFROM:+0000
TZOFFSETTO:+0000
TZNAME:UTC
DTSTART:20240101T000000
END:STANDARD
END:VTIMEZONE
BEGIN:VEVENT
DTSTART;VALUE=DATE:20250810
DTEND;VALUE=DATE:20250811
DTSTAMP:20260423T214257
CREATED:20250629T205635Z
LAST-MODIFIED:20250707T231118Z
UID:7177-1754784000-1754870399@skvhouston.org
SUMMARY:Aradhana Mahotsava of Shri Guru Raghavendra Swamiji
DESCRIPTION:
URL:https://skvhouston.org/event/aradhana-mahotsava-of-shri-guru-raghavendra-swamiji-2/
LOCATION:10251 Synott Rd\, Sugar Land\, TX 77498\, 10251 Synott Rd\, Sugar Land\, TX\, 77498\, United States
CATEGORIES:Pooja
END:VEVENT
BEGIN:VEVENT
DTSTART;VALUE=DATE:20250810
DTEND;VALUE=DATE:20250811
DTSTAMP:20260423T214257
CREATED:20250707T214728Z
LAST-MODIFIED:20250707T214728Z
UID:7267-1754784000-1754870399@skvhouston.org
SUMMARY:PurvaAradhana of Shri Guru Raghavendra Swamiji
DESCRIPTION:
URL:https://skvhouston.org/event/purvaaradhana-of-shri-guru-raghavendra-swamiji/
CATEGORIES:Pooja
END:VEVENT
END:VCALENDAR