BEGIN:VCALENDAR
VERSION:2.0
PRODID:-//Shri Krishna Vrundavana Houston - ECPv6.15.20//NONSGML v1.0//EN
CALSCALE:GREGORIAN
METHOD:PUBLISH
X-WR-CALNAME:Shri Krishna Vrundavana Houston
X-ORIGINAL-URL:https://skvhouston.org
X-WR-CALDESC:Events for Shri Krishna Vrundavana Houston
REFRESH-INTERVAL;VALUE=DURATION:PT1H
X-Robots-Tag:noindex
X-PUBLISHED-TTL:PT1H
BEGIN:VTIMEZONE
TZID:UTC
BEGIN:STANDARD
TZOFFSETFROM:+0000
TZOFFSETTO:+0000
TZNAME:UTC
DTSTART:20240101T000000
END:STANDARD
END:VTIMEZONE
BEGIN:VEVENT
DTSTART;TZID=UTC:20250101T090000
DTEND;TZID=UTC:20250101T090000
DTSTAMP:20260424T061415
CREATED:20241223T165734Z
LAST-MODIFIED:20241223T165734Z
UID:6048-1735722000-1735722000@skvhouston.org
SUMMARY:Ganahoma
DESCRIPTION:
URL:https://skvhouston.org/event/ganahoma/
LOCATION:Our Address\, 10251 Synott Rd\, Sugar Land\, TX\, 77498\, United States
CATEGORIES:Pooja
END:VEVENT
BEGIN:VEVENT
DTSTART;TZID=UTC:20250101T100000
DTEND;TZID=UTC:20250101T100000
DTSTAMP:20260424T061415
CREATED:20241223T165734Z
LAST-MODIFIED:20241223T165734Z
UID:6049-1735725600-1735725600@skvhouston.org
SUMMARY:Sathyanarayana pooja
DESCRIPTION:
URL:https://skvhouston.org/event/sathyanarayana-pooja/
LOCATION:Our Address\, 10251 Synott Rd\, Sugar Land\, TX\, 77498\, United States
CATEGORIES:Pooja
END:VEVENT
END:VCALENDAR