BEGIN:VCALENDAR
VERSION:2.0
PRODID:-//Shri Krishna Vrundavana Houston - ECPv6.15.20//NONSGML v1.0//EN
CALSCALE:GREGORIAN
METHOD:PUBLISH
X-ORIGINAL-URL:https://skvhouston.org
X-WR-CALDESC:Events for Shri Krishna Vrundavana Houston
REFRESH-INTERVAL;VALUE=DURATION:PT1H
X-Robots-Tag:noindex
X-PUBLISHED-TTL:PT1H
BEGIN:VTIMEZONE
TZID:UTC
BEGIN:STANDARD
TZOFFSETFROM:+0000
TZOFFSETTO:+0000
TZNAME:UTC
DTSTART:20230101T000000
END:STANDARD
END:VTIMEZONE
BEGIN:VEVENT
DTSTART;TZID=UTC:20240215T100000
DTEND;TZID=UTC:20240215T120000
DTSTAMP:20260424T180123
CREATED:20240205T002539Z
LAST-MODIFIED:20240205T002539Z
UID:4858-1707991200-1707998400@skvhouston.org
SUMMARY:Ratha Sapthami- Adithya Hrudaya Homa
DESCRIPTION:For the Sponsor of the seva\, please follow the link. \nhttps://form.jotform.com/txtemple.org/skv-houston-sevas
URL:https://skvhouston.org/event/ratha-sapthami-adithya-hrudaya-homa/
END:VEVENT
END:VCALENDAR