BEGIN:VCALENDAR
VERSION:2.0
PRODID:-//Shri Krishna Vrundavana Houston - ECPv6.15.20//NONSGML v1.0//EN
CALSCALE:GREGORIAN
METHOD:PUBLISH
X-ORIGINAL-URL:https://skvhouston.org
X-WR-CALDESC:Events for Shri Krishna Vrundavana Houston
REFRESH-INTERVAL;VALUE=DURATION:PT1H
X-Robots-Tag:noindex
X-PUBLISHED-TTL:PT1H
BEGIN:VTIMEZONE
TZID:UTC
BEGIN:STANDARD
TZOFFSETFROM:+0000
TZOFFSETTO:+0000
TZNAME:UTC
DTSTART:20230101T000000
END:STANDARD
END:VTIMEZONE
BEGIN:VEVENT
DTSTART;TZID=UTC:20240107T120000
DTEND;TZID=UTC:20240107T140000
DTSTAMP:20260424T190934
CREATED:20231229T214830Z
LAST-MODIFIED:20231229T220817Z
UID:4596-1704628800-1704636000@skvhouston.org
SUMMARY:Greater Houston Car Rally in support of Shri Ram Mandir opening in Ayodhya
DESCRIPTION:There is a car rally organized in support of the opening of Ram Mandir in Ayodhya. The rally is passing through 11 temples in the Greater Houston area and reaching Shri Krishna Vrundavana at 12:55 PM. \nKindly request you to join us in receiving this car rally with the celebration \nRequest you all to be present in SKV by 12:15 PM
URL:https://skvhouston.org/event/greater-houston-car-rally-in-support-of-shri-ram-mandir-opening-in-ayodhya/
END:VEVENT
END:VCALENDAR