BEGIN:VCALENDAR
VERSION:2.0
PRODID:-//Shri Krishna Vrundavana Houston - ECPv6.15.20//NONSGML v1.0//EN
CALSCALE:GREGORIAN
METHOD:PUBLISH
X-WR-CALNAME:Shri Krishna Vrundavana Houston
X-ORIGINAL-URL:https://skvhouston.org
X-WR-CALDESC:Events for Shri Krishna Vrundavana Houston
REFRESH-INTERVAL;VALUE=DURATION:PT1H
X-Robots-Tag:noindex
X-PUBLISHED-TTL:PT1H
BEGIN:VTIMEZONE
TZID:UTC
BEGIN:STANDARD
TZOFFSETFROM:+0000
TZOFFSETTO:+0000
TZNAME:UTC
DTSTART:20210101T000000
END:STANDARD
END:VTIMEZONE
BEGIN:VEVENT
DTSTART;TZID=UTC:20220920T090000
DTEND;TZID=UTC:20220925T120000
DTSTAMP:20260425T142558
CREATED:20220920T004623Z
LAST-MODIFIED:20220920T012509Z
UID:3633-1663664400-1664107200@skvhouston.org
SUMMARY:Mahalaya Paksha
DESCRIPTION:Mahalaya Paksha : Sept 10th to Sept 25th. No Shradha/ Tarpana/ Swayam paka on Sept 21st(Ekadashi).\nMahalaya Amavasya is on September 25th. \nBook Seva
URL:https://skvhouston.org/event/mahalaya-paksha/
LOCATION:Our Address\, 10251 Synott Rd\, Sugar Land\, TX\, 77498\, United States
CATEGORIES:Pooja,Seva
END:VEVENT
END:VCALENDAR