BEGIN:VCALENDAR
VERSION:2.0
PRODID:-//Shri Krishna Vrundavana Houston - ECPv6.15.20//NONSGML v1.0//EN
CALSCALE:GREGORIAN
METHOD:PUBLISH
X-ORIGINAL-URL:https://skvhouston.org
X-WR-CALDESC:Events for Shri Krishna Vrundavana Houston
REFRESH-INTERVAL;VALUE=DURATION:PT1H
X-Robots-Tag:noindex
X-PUBLISHED-TTL:PT1H
BEGIN:VTIMEZONE
TZID:UTC
BEGIN:STANDARD
TZOFFSETFROM:+0000
TZOFFSETTO:+0000
TZNAME:UTC
DTSTART:20210101T000000
END:STANDARD
END:VTIMEZONE
BEGIN:VEVENT
DTSTART;TZID=UTC:20220819T200000
DTEND;TZID=UTC:20220819T233000
DTSTAMP:20260425T154541
CREATED:20220728T150359Z
LAST-MODIFIED:20220728T150359Z
UID:3478-1660939200-1660951800@skvhouston.org
SUMMARY:Shri Krishna Janmashtami
DESCRIPTION:
URL:https://skvhouston.org/event/shri-krishna-janmashtami/
LOCATION:Our Address\, 10251 Synott Rd\, Sugar Land\, TX\, 77498\, United States
END:VEVENT
END:VCALENDAR