BEGIN:VCALENDAR
VERSION:2.0
PRODID:-//Shri Krishna Vrundavana Houston - ECPv6.15.20//NONSGML v1.0//EN
CALSCALE:GREGORIAN
METHOD:PUBLISH
X-ORIGINAL-URL:https://skvhouston.org
X-WR-CALDESC:Events for Shri Krishna Vrundavana Houston
REFRESH-INTERVAL;VALUE=DURATION:PT1H
X-Robots-Tag:noindex
X-PUBLISHED-TTL:PT1H
BEGIN:VTIMEZONE
TZID:UTC
BEGIN:STANDARD
TZOFFSETFROM:+0000
TZOFFSETTO:+0000
TZNAME:UTC
DTSTART:20210101T000000
END:STANDARD
END:VTIMEZONE
BEGIN:VEVENT
DTSTART;TZID=UTC:20220813T070000
DTEND;TZID=UTC:20220813T190000
DTSTAMP:20260425T154541
CREATED:20220307T175147Z
LAST-MODIFIED:20220728T145945Z
UID:3387-1660374000-1660417200@skvhouston.org
SUMMARY:Shri Guru Raghavendra Swamy Aradhana Mahotsava 2022
DESCRIPTION:   \n\n Aradhana Volunteer Signup\, Please click here   \nGrocery Sponsorship for Aradhana\, Please click here\nSeva Sponsorship for Aradhana\, Please click here
URL:https://skvhouston.org/event/raghavendra-swami-aaradhane/
LOCATION:Our Address\, 10251 Synott Rd\, Sugar Land\, TX\, 77498\, United States
CATEGORIES:Pooja,Seva
END:VEVENT
END:VCALENDAR